BEGIN:VCALENDAR
VERSION:2.0
PRODID:-//ChamberMaster//Event Calendar 2.0//EN
METHOD:PUBLISH
X-PUBLISHED-TTL:P3D
REFRESH-INTERVAL:P3D
CALSCALE:GREGORIAN
BEGIN:VEVENT
DTSTART:20260501T140000Z
DTEND:20260509T200000Z
X-MICROSOFT-CDO-ALLDAYEVENT:FALSE
SUMMARY:Arlington Heights's 1st Resale Relay
DESCRIPTION:Choose to Reuse. Shop Local. Strengthen Community.\n\n \n\nIf you've never fully experienced the joy of resale shopping\, THIS is your chance! Come and discover 7 nonprofit resale shops working together in Arlington Heights (and all within 2 miles of each other). From May 1st-May 9th\, we invite you to explore the following shops:\n\n \n\n--  GENEROC.I.T.Y. Toy Shop\n\n--  Community Threads\n\n--  Greener Good\n\n--  The Salvation Army\n\n--  ReStore\n\n--  Lucille\n\n--  Wings Resale\n\n \n\nYou can pick up your passport at any of the shops starting on Friday\, May 1st. Get your passport stamped at the different shops\, and drop off your passport at the @generocitytoyshop no later than 3:00pm on Saturday\, May 9th.\n\n\n\nYou will receive 1 entry into our raffle for every stamp you receive (and bonus stamps for visiting more shops)! We will have 3 raffle drawings + 1 grand prize drawing to win a Neighborhood Shopping Spree! Winners will be notified via email on Sunday\, May 10th. No purchase necessary to win. 1 passport per household.
X-ALT-DESC;FMTTYPE=text/html:<div><strong>Choose to Reuse. Shop Local. Strengthen Community.</strong><br />\n&nbsp\;</div>\n\n<div>If you&#39\;ve never fully experienced the joy of resale shopping\, THIS is your chance! Come and discover 7 nonprofit resale shops working together in Arlington Heights (and all within 2 miles of each other). From <strong>May 1st-May 9th</strong>\, we invite you to explore the following shops:<br />\n&nbsp\;</div>\n\n<div>--&gt\; GENEROC.I.T.Y. Toy Shop<br />\n--&gt\; Community Threads<br />\n--&gt\; Greener Good<br />\n--&gt\; The Salvation Army<br />\n--&gt\; ReStore<br />\n--&gt\; Lucille<br />\n--&gt\; Wings Resale<br />\n&nbsp\;</div>\n\n<div><strong>You can pick up your passport at any of the shops starting on Friday\, May 1st. Get your passport stamped at the different shops\, and drop off your passport at the @generocitytoyshop no later than 3:00pm on Saturday\, May 9th.</strong></div>\n\n<div><br />\nYou will receive 1 entry into our raffle for every stamp you receive (and bonus stamps for visiting more shops)! We will have 3 raffle drawings + 1 grand prize drawing to <strong>win a Neighborhood Shopping Spree!</strong> Winners will be notified via email on Sunday\, May 10th. No purchase necessary to win. 1 passport per household.</div>\n
LOCATION:Passports available at each of the participating SEVEN local resale shops (all along the Rand Rd. Corridor in Arlington Heights). Completed passports must be returned to the GENEROC.I.T.Y. Toy Shop at 1423 E. Palatine Rd. in Arlington Heights\, IL 60004.
UID:e.858.14445
SEQUENCE:3
DTSTAMP:20260420T192444Z
URL:http://business.arlingtonhcc.com/events/details/arlington-heights-s-1st-resale-relay-14445
END:VEVENT

END:VCALENDAR
